BEGIN:VCALENDAR
VERSION:2.0
PRODID:icalendar-ruby
CALSCALE:GREGORIAN
BEGIN:VEVENT
DTSTAMP:20260419T153518Z
UID:20404e5d-4b82-4049-ae18-f501ffa227e4
DTSTART;VALUE=DATE:20260506
DESCRIPTION:Property ID# 606332\, Time: 4:00PM
SUMMARY:Auction for 2/10 Sylvan Park Avenue
END:VEVENT
END:VCALENDAR
