BEGIN:VCALENDAR
VERSION:2.0
PRODID:icalendar-ruby
CALSCALE:GREGORIAN
BEGIN:VEVENT
DTSTAMP:20260421T165651Z
UID:557e409e-8033-4380-b17c-018de3f10b24
DTSTART;VALUE=DATE:20260305
DESCRIPTION:Property ID# 603564\, Locatoin: 8-12 The Promenade Takapuna (Un
 less Sold Prior)\, Time: 10:00AM
SUMMARY:Auction for 39 Ngataringa Road
END:VEVENT
END:VCALENDAR
