BEGIN:VCALENDAR
VERSION:2.0
PRODID:icalendar-ruby
CALSCALE:GREGORIAN
BEGIN:VEVENT
DTSTAMP:20260422T031631Z
UID:e06f2b26-9cf5-4d6c-a7c4-0c66e7c86b4a
DTSTART;VALUE=DATE:20251218
DESCRIPTION:Property ID# 600493\, Time: 12:00PM
SUMMARY:Auction for 
END:VEVENT
END:VCALENDAR
