BEGIN:VCALENDAR
VERSION:2.0
PRODID:icalendar-ruby
CALSCALE:GREGORIAN
BEGIN:VEVENT
DTSTAMP:20260419T164617Z
UID:d070cb8f-ea57-4053-acfe-faec2870609d
DTSTART;VALUE=DATE:20251113
DESCRIPTION:Property ID# 598452\, Time: 4:00PM
SUMMARY:Auction for 
END:VEVENT
END:VCALENDAR
