BEGIN:VCALENDAR
VERSION:2.0
PRODID:icalendar-ruby
CALSCALE:GREGORIAN
BEGIN:VEVENT
DTSTAMP:20260421T131203Z
UID:3d1d149d-2cd9-4167-9a98-b3a86739cf65
DTSTART;VALUE=DATE:20250911
DESCRIPTION:Property ID# 594408\, Time: 4:00PM
SUMMARY:Auction for 
END:VEVENT
END:VCALENDAR
