BEGIN:VCALENDAR
VERSION:2.0
PRODID:icalendar-ruby
CALSCALE:GREGORIAN
BEGIN:VEVENT
DTSTAMP:20260420T160338Z
UID:b4f717ae-b80e-4db5-836f-57557df3084e
DTSTART;VALUE=DATE:20241029
DESCRIPTION:Property ID# 582117\, Time: 2:00PM
SUMMARY:Auction for 
END:VEVENT
END:VCALENDAR
